BEGIN:VCALENDAR
VERSION:2.0
PRODID:-//ChamberMaster//Event Calendar 2.0//EN
METHOD:PUBLISH
X-PUBLISHED-TTL:P3D
REFRESH-INTERVAL:P3D
CALSCALE:GREGORIAN
BEGIN:VEVENT
DTSTART;VALUE=DATE:20240505
DTEND;VALUE=DATE:20240506
TRANSP:TRANSPARENT
X-MICROSOFT-CDO-ALLDAYEVENT:TRUE
SUMMARY:National Ride a Bike Day
DESCRIPTION:Make sure to check out our website for more information at CityofGlendora.org/Transportation.\n\n \nDate: 5/1/2023 ALL DAY\n\nLocation: Glendora City Hall\n\n116 E Foothill Blvd\n\nGlendora\, California 91741
X-ALT-DESC;FMTTYPE=text/html:<span style="color:rgb(46\, 46\, 46)\; font-family:tahoma\,geneva\,sans-serif\; font-size:13.008px">Make sure to check out our website for more information at CityofGlendora.org/Transportation.</span><br />\n&nbsp\;\n<div style="padding: 0px\; color: rgb(69\, 65\, 65)\; font-family: &quot\;Open Sans&quot\;\, sans-serif\;"><span class="detail-list-label" style="display: inline-block\; width: 250px\; font-weight: bold\; vertical-align: top\;">Date: 5/1/2023 ALL DAY</span><br />\n<span class="detail-list-label" style="display: inline-block\; width: 250px\; font-weight: bold\; vertical-align: top\;">Location: Glendora City Hall</span><br />\n<a href="http://www.google.com/maps?f=l&amp\;hl=en&amp\;q=116+E+Foothill+Blvd%2c+Glendora%2c+California+91741" style="color: rgb(66\, 179\, 56)\;" target="_blank" title="116 E Foothill Blvd\nGlendora\, California 91741"><span itemprop="address" itemscope="" itemtype="http://data-vocabulary.org/Address"><span itemprop="street-address">116 E Foothill Blvd</span><br />\n<span itemprop="locality">Glendora</span>\,&nbsp\;<span itemprop="region">California</span>&nbsp\;91741</span></a></div>\n\n<div style="padding: 0px\; color: rgb(69\, 65\, 65)\; font-family: &quot\;Open Sans&quot\;\, sans-serif\;">&nbsp\;</div>\n
LOCATION:Date: 5/1/2023 ALL DAY Location: Glendora City Hall 116 E Foothill Blvd Glendora\, California 91741
UID:e.2149.14781
SEQUENCE:3
DTSTAMP:20260423T094941Z
URL:https://business.glendoracoordinatingcouncil.org/events/details/national-ride-a-bike-day-05-05-2024-14781
END:VEVENT

END:VCALENDAR
