BEGIN:VCALENDAR
VERSION:2.0
PRODID:-//ChamberMaster//Event Calendar 2.0//EN
METHOD:PUBLISH
X-PUBLISHED-TTL:P3D
REFRESH-INTERVAL:P3D
CALSCALE:GREGORIAN
BEGIN:VEVENT
DTSTART;VALUE=DATE:20260501
DTEND;VALUE=DATE:20260513
TRANSP:TRANSPARENT
X-MICROSOFT-CDO-ALLDAYEVENT:TRUE
SUMMARY:Taste of Cruising
DESCRIPTION:Weekend cruise to Ensenada on Carnival. I have block of 20 cabins remaining as of today 4/17/26. Sail dates 08/7/26 - 08/10/26. Initial deposit due by May 12th with final payment due by May 24th. Interior cabins start as low as $302 per person\, double occupancy. Must have passport that is valid at least 6 months beyond last sail date (08/7/26). Please contact me for more details.
X-ALT-DESC;FMTTYPE=text/html:Weekend cruise to Ensenada on Carnival. I have block of 20 cabins remaining as of today 4/17/26. Sail dates 08/7/26 - 08/10/26. Initial deposit due by May 12th with final payment due by May 24th.&nbsp\;Interior cabins start as low as $302 per person\, double occupancy. Must have passport that is valid at least 6 months beyond last sail date (08/7/26). Please contact me for more details.&nbsp\;&nbsp\;
LOCATION:
UID:e.2149.18510
SEQUENCE:3
DTSTAMP:20260422T220251Z
URL:http://business.glendoracoordinatingcouncil.org/events/details/taste-of-cruising-18510
END:VEVENT

END:VCALENDAR
